BEGIN:VCALENDAR
VERSION:2.0
PRODID:-//Azijnfabriek Roermond⁩ - ECPv6.15.20//NONSGML v1.0//EN
CALSCALE:GREGORIAN
METHOD:PUBLISH
X-ORIGINAL-URL:https://azijnfabriek.nl
X-WR-CALDESC:Evenementen voor Azijnfabriek Roermond⁩
REFRESH-INTERVAL;VALUE=DURATION:PT1H
X-Robots-Tag:noindex
X-PUBLISHED-TTL:PT1H
BEGIN:VTIMEZONE
TZID:Europe/Amsterdam
BEGIN:DAYLIGHT
TZOFFSETFROM:+0100
TZOFFSETTO:+0200
TZNAME:CEST
DTSTART:20250330T010000
END:DAYLIGHT
BEGIN:STANDARD
TZOFFSETFROM:+0200
TZOFFSETTO:+0100
TZNAME:CET
DTSTART:20251026T010000
END:STANDARD
BEGIN:DAYLIGHT
TZOFFSETFROM:+0100
TZOFFSETTO:+0200
TZNAME:CEST
DTSTART:20260329T010000
END:DAYLIGHT
BEGIN:STANDARD
TZOFFSETFROM:+0200
TZOFFSETTO:+0100
TZNAME:CET
DTSTART:20261025T010000
END:STANDARD
BEGIN:DAYLIGHT
TZOFFSETFROM:+0100
TZOFFSETTO:+0200
TZNAME:CEST
DTSTART:20270328T010000
END:DAYLIGHT
BEGIN:STANDARD
TZOFFSETFROM:+0200
TZOFFSETTO:+0100
TZNAME:CET
DTSTART:20271031T010000
END:STANDARD
END:VTIMEZONE
BEGIN:VEVENT
DTSTART;TZID=Europe/Amsterdam:20260505T190000
DTEND;TZID=Europe/Amsterdam:20260506T010000
DTSTAMP:20260422T172554
CREATED:20260422T083407Z
LAST-MODIFIED:20260422T083407Z
UID:7457-1778007600-1778029200@azijnfabriek.nl
SUMMARY:DIEAFTERPARTY Bevrijdingsdag Roermond
DESCRIPTION:Tickets\n \n🗓 DINSDAG 5 MEI 2026: DIEAFTERPARTY Bevrijdingsdag Roermond bij de Azijnfabriek! \nOscillate x Teknown present: DIEAFTERPARTY Bevrijdingsdag Roermond \nFor the fourth year in a row\, we return with our unofficial Bevrijdingsfestival afterparty. \nDoors open earlier than usual: 19:00 – 01:00 \nLine-up will be announced soon. \nTickets are now available. \nBe there. \n🎧 T.B.A. \n🎵 Tekno\, RaggaTek\, Drum&Bass \nTIME TABLE\n⚡️ 19:00 Doors open\n⚡️ 01:00 Closing time \nAzijnfabriek Roermond\n👉🏻 Tickets LIMITED EARLY BIRDS: € 5\,00 excl. service kosten.\n🎟️ Tickets: https://eventix.shop/5q2467gn\n👉🏻 Tickets Door: € 10 excl. service kosten.\n🔞 18+\n🍻 Drank: Pin en contant.\n🧥 Garderobe: € 1 (Alleen contant). \nFacebook event:\nhttps://www.facebook.com/events/907831762053039/ \n#Azijnfabriek #Aek #Poppodium #Roermond #Roermondcity #Evenement #Event #Party #Oscillate #Teknown #Tekno #RaggaTek #DrumAndBass #DNB #5Mei #Bevrijdingsfestival #Afterparty #BevrijdingsfestivalAfterparty \n 
URL:https://azijnfabriek.nl/event/dieafterparty-bevrijdingsdag-05-05-2026/
LOCATION:Azijnfabriek\, Zwartbroekstraat 17\, Roermond\, 6041 JL\, Nederland
CATEGORIES:Dans- en nachtclub
ATTACH;FMTTYPE=image/png:https://azijnfabriek.nl/wp-content/uploads/2026/04/azijnfabriek_event_website_2026_mei_dieafterparty_bevrijdingsdag_roermond_v1.0.0.png
ORGANIZER;CN="Azijnfabriek":MAILTO:info@azijnfabriek.nl
END:VEVENT
END:VCALENDAR