BEGIN:VCALENDAR
VERSION:2.0
PRODID:-//Azijnfabriek Roermond⁩ - ECPv6.15.20//NONSGML v1.0//EN
CALSCALE:GREGORIAN
METHOD:PUBLISH
X-WR-CALNAME:Azijnfabriek Roermond⁩
X-ORIGINAL-URL:https://azijnfabriek.nl
X-WR-CALDESC:Evenementen voor Azijnfabriek Roermond⁩
REFRESH-INTERVAL;VALUE=DURATION:PT1H
X-Robots-Tag:noindex
X-PUBLISHED-TTL:PT1H
BEGIN:VTIMEZONE
TZID:Europe/Amsterdam
BEGIN:DAYLIGHT
TZOFFSETFROM:+0100
TZOFFSETTO:+0200
TZNAME:CEST
DTSTART:20250330T010000
END:DAYLIGHT
BEGIN:STANDARD
TZOFFSETFROM:+0200
TZOFFSETTO:+0100
TZNAME:CET
DTSTART:20251026T010000
END:STANDARD
BEGIN:DAYLIGHT
TZOFFSETFROM:+0100
TZOFFSETTO:+0200
TZNAME:CEST
DTSTART:20260329T010000
END:DAYLIGHT
BEGIN:STANDARD
TZOFFSETFROM:+0200
TZOFFSETTO:+0100
TZNAME:CET
DTSTART:20261025T010000
END:STANDARD
BEGIN:DAYLIGHT
TZOFFSETFROM:+0100
TZOFFSETTO:+0200
TZNAME:CEST
DTSTART:20270328T010000
END:DAYLIGHT
BEGIN:STANDARD
TZOFFSETFROM:+0200
TZOFFSETTO:+0100
TZNAME:CET
DTSTART:20271031T010000
END:STANDARD
END:VTIMEZONE
BEGIN:VEVENT
DTSTART;TZID=Europe/Amsterdam:20260911T200000
DTEND;TZID=Europe/Amsterdam:20260912T020000
DTSTAMP:20260420T062814
CREATED:20260305T101830Z
LAST-MODIFIED:20260305T102047Z
UID:6792-1789156800-1789178400@azijnfabriek.nl
SUMMARY:Grindcore Inferno #4
DESCRIPTION:Tickets T.B.A.\n \n🗓 VRIJDAG 11 SEPTEMBER 2026: Grindcore Inferno #4 bij de Azijnfabriek!  \nThis time Grindcore Inferno #4 will bring lot of noisy Grindcore. \n🎸 DESTITUTE; from Colombia Grindcore as hell \n🎸 MINDLOCK; from Columbia Grindcore madness \n🎸 MUCUS & HYBRID VISCERY; from Belgium these guys will show you how to play two shows in the same evening. totally old school Grindcore with the noisy parts.brutal….since 1997 \n🎸 INDIGNATION; from Amsterdam raw Grindcore\, second time at the Grindcore Inferno. \n👨🏻‍🎤 Een absolute show die je niet wilt missen! \n🎵 Grindcore\, Old School Grindcore\, Noisegrind\, Goregrind \nTIME TABLE\n⚡️ 20:00 Doors open\n⚡️ 20:30 Aanvang\n⚡️ 02:00 Closing time \nAzijnfabriek Roermond\n👉🏻 Tickets: T.B.A.\n🎟 Tickets: T.B.A.\n✅ Alle leeftijden\n🍻 Drank: Pin en contant. \nFacebook event:\nhttps://www.facebook.com/events/746084344949869/ \nDESTITUTE Social Media:\nInstagram: https://www.instagram.com/destitutegrind/ \nMINDLOCK Social Media:\nInstagram: https://www.instagram.com/mindlockgrind/ \nMUCUS Social Media:\nFacebook: https://www.facebook.com/mucusgrind \nHYBRID VISCERY Social Media:\nFacebook: https://www.facebook.com/hybridviscery\nInstagram: https://www.instagram.com/hybridviscery/ \n#Azijnfabriek #Aek #Poppodium #Roermond #Roermondcity #Evenement #Event #Livemuziek #Concert #GrindcoreInferno #Destitute #Mindlock #MucusAndHybridViscery #Indignation #Grindcore\n 
URL:https://azijnfabriek.nl/event/grindcoreinferno-11-09-2026/
LOCATION:Azijnfabriek\, Zwartbroekstraat 17\, Roermond\, 6041 JL\, Nederland
CATEGORIES:Concert
ATTACH;FMTTYPE=image/png:https://azijnfabriek.nl/wp-content/uploads/2026/03/azijnfabriek_event_website_2026_september_grindcoreinferno_v1.0.0.png
ORGANIZER;CN="Azijnfabriek":MAILTO:info@azijnfabriek.nl
END:VEVENT
END:VCALENDAR