BEGIN:VCALENDAR
VERSION:2.0
PRODID:-//Azijnfabriek Roermond⁩ - ECPv6.15.20//NONSGML v1.0//EN
CALSCALE:GREGORIAN
METHOD:PUBLISH
X-WR-CALNAME:Azijnfabriek Roermond⁩
X-ORIGINAL-URL:https://azijnfabriek.nl
X-WR-CALDESC:Evenementen voor Azijnfabriek Roermond⁩
REFRESH-INTERVAL;VALUE=DURATION:PT1H
X-Robots-Tag:noindex
X-PUBLISHED-TTL:PT1H
BEGIN:VTIMEZONE
TZID:Europe/Amsterdam
BEGIN:DAYLIGHT
TZOFFSETFROM:+0100
TZOFFSETTO:+0200
TZNAME:CEST
DTSTART:20240331T010000
END:DAYLIGHT
BEGIN:STANDARD
TZOFFSETFROM:+0200
TZOFFSETTO:+0100
TZNAME:CET
DTSTART:20241027T010000
END:STANDARD
BEGIN:DAYLIGHT
TZOFFSETFROM:+0100
TZOFFSETTO:+0200
TZNAME:CEST
DTSTART:20250330T010000
END:DAYLIGHT
BEGIN:STANDARD
TZOFFSETFROM:+0200
TZOFFSETTO:+0100
TZNAME:CET
DTSTART:20251026T010000
END:STANDARD
BEGIN:DAYLIGHT
TZOFFSETFROM:+0100
TZOFFSETTO:+0200
TZNAME:CEST
DTSTART:20260329T010000
END:DAYLIGHT
BEGIN:STANDARD
TZOFFSETFROM:+0200
TZOFFSETTO:+0100
TZNAME:CET
DTSTART:20261025T010000
END:STANDARD
BEGIN:DAYLIGHT
TZOFFSETFROM:+0100
TZOFFSETTO:+0200
TZNAME:CEST
DTSTART:20270328T010000
END:DAYLIGHT
BEGIN:STANDARD
TZOFFSETFROM:+0200
TZOFFSETTO:+0100
TZNAME:CET
DTSTART:20271031T010000
END:STANDARD
END:VTIMEZONE
BEGIN:VEVENT
DTSTART;TZID=Europe/Amsterdam:20260117T200000
DTEND;TZID=Europe/Amsterdam:20260118T010000
DTSTAMP:20260421T190724
CREATED:20251008T082146Z
LAST-MODIFIED:20251215T102024Z
UID:5015-1768680000-1768698000@azijnfabriek.nl
SUMMARY:MARTYR + Velozza + Rad Skeliott
DESCRIPTION:Tickets\n \n🗓 ZATERDAG 17 JANUARI 2026: MARTYR + Velozza + Rad Skeliott bij de Azijnfabriek! \n🎸 MARTYR; is a Dutch power metal band formed in 1982 that gained international recognition with “En Masse (Stand Or Die)” on Metal Massacre VI and the classic debut album For The Universe. The band is a respected name in Dutch heavy metal\, tours internationally\, and has shared stages with acts such as Saxon and Dragonforce. In 2022 Martyr released the acclaimed album Planet Metalhead\, and in 2025 the band will release its seventh studio album\, Dark Believer\, followed by international shows. \n🎸 Velozza; is a thrash metal band from Roermond\, the Netherlands\, They deliver raw\, uncompromising thrash that channels the spirit of the ’80s while carving out a sound of their own. F.F.O. Slayer\, Kreator\, and Havok. Velozza delivers relentless riffs and commanding songs built for full-volume crowds. Step in\, turn it up\, and follow the band as they tear through stages one show at a time. \n🎸 Rad Skeliott; Een dynamisch trio dat bekendstaat om hun opwindende punkgeluid\, heeft al op verschillende podia in de buurt succesvol opgetreden. Ze brengen hun eigen nummers die je gegarandeerd laten springen. Mis bijvoorbeeld hun nummer over skateboarden niet en laat je meeslepen door hun rauwe energie en passie voor muziek. Pro-tip: Score hun coole bandstickers.  \n👨🏻‍🎤 Een absolute show die je niet wilt missen! \n🎵 Heavy Metal\, Power Metal\, Thrash Metal\, Speed Metal\, Screamo\, Emoviolence \nTIME TABLE\n⚡️ 20:00 Doors open\n⚡️ 21:00 Aanvang\n⚡️ 01:00 Closing time \nAzijnfabriek Roermond\n👉🏻 Tickets: € 11\,71 excl. service kosten.\n🎟 Tickets: https://shop.ikbenaanwezig.nl/tickets/event/martyr-velozza-rad-skeliott\n👉🏻 Tickets Door: € 15.\n✅ Alle leeftijden\n🍻 Drank: Pin en contant. \n\n\n\n\nFacebook event:\nhttps://www.facebook.com/events/681136868319621/ \nMARTYR Social Media\nFacebook: https://www.facebook.com/MARTYRONLINE/\nInstagram: https://www.instagram.com/martyronline/ \nVelozza Social Media\nFacebook: https://www.facebook.com/Velozzaband/\nInstagram: https://www.instagram.com/velozzaofficial/ \nRad Skeliott Social Media\nInstagram: https://www.instagram.com/radskeliott/ \n#Azijnfabriek #AEK #Poppodium #Roermond #Roermondcity #Evenement #Event #Livemuziek #Concert #MARTYR #Velozza #RadSkeliott #HeavyMetal #PowerMetal #ThrashMetal #SpeedMetal #Screamo #Emoviolence \n 
URL:https://azijnfabriek.nl/event/martyr-velozza-radskeliott-17-01-2026/
LOCATION:Azijnfabriek\, Zwartbroekstraat 17\, Roermond\, 6041 JL\, Nederland
CATEGORIES:Concert
ATTACH;FMTTYPE=image/png:https://azijnfabriek.nl/wp-content/uploads/2025/10/azijnfabriek_event_website_2026_januari_martyr_velozza_redskelliot_v1.1.0.png
ORGANIZER;CN="Azijnfabriek":MAILTO:info@azijnfabriek.nl
END:VEVENT
BEGIN:VEVENT
DTSTART;TZID=Europe/Amsterdam:20250726T130000
DTEND;TZID=Europe/Amsterdam:20250726T230000
DTSTAMP:20260421T190724
CREATED:20250716T073346Z
LAST-MODIFIED:20250723T105024Z
UID:4702-1753534800-1753570800@azijnfabriek.nl
SUMMARY:Azijnfabriek Stage @ Weerstand Open Air 2025
DESCRIPTION:🗓 ZATERDAG 26 JULI 2025: Azijnfabriek Stage @ Weerstand Open Air 2025! \nDit jaar heeft de Azijnfabriek Roermond weer zijn eigen stage bij het festival Weerstand Open Air 2025! Heb jij zin in Rock en/of Metal muziek? Kom vooral kijken bij onze Stage. Tot dan! \n👨🏻‍🎤 Een absolute show die je niet wilt missen! \n🎵 Postmetal\, Doom\, Screamo\, Emoviolence\, Poppunk\, Emo\, Posthardcore\, Groovemetal\, Thrash\, Deathmetal \nTIME TABLE\n⚡️ 13:00 Doors open\n⚡️ 15:00 – 15:45 Bronson Superfortress [Post-metal\, Doom]\n⚡️ 16:15 – 17:00 Rad Skeliott [Screamo\, Emoviolence]\n⚡️ 17:30 – 18:15 Sugarpunch! [Pop-punk\, Emo]\n⚡️ 18:45 – 19:30 Azalea [Post-hardcore\, Screamo]\n⚡️ 20:00 – 20:45 Reverse the Flow [Groove metal\, Thrash]\n⚡️ 21:15 – 22:00 Inferum [Death metal\, Groove metal]\n⚡️ 23:00 Closing time \nAzijnfabriek Roermond @ Weerstand Open Air 2025\n👉🏻 GRATIS entree!\n✅ Alle leeftijden\n🍻 Drank: Pin en contant. \nFacebook event:\nhttps://www.facebook.com/events/1260573112320391/ \nWeerstand Open Air 2025 Facebook event:\nhttps://www.facebook.com/events/1343127830981124/ \n#Azijnfabriek #AEK #WeAreRoermond #Weerstand #WeerstandOpenAir #WeerstandFestival #Poppodium #Roermond #Roermondcity #Festival #Evenement #Event #Livemuziek #Concert #BronsonSuperfortress #RadSkeliott #Sugarpunch #Azalea #ReverseTheFlow #Inferum #Postmetal #Doom #Screamo #Emoviolence #Poppunk #Emo #Posthardcore #Groovemetal #Thrash #Deathmetal \n\n\n\n\n 
URL:https://azijnfabriek.nl/event/weerstand-open-air-2025/
LOCATION:Weerstand Roermond\, Bredeweg 10\, Roermond\, Limburg\, 6042 GG\, Nederland
CATEGORIES:Concert,Festival
ATTACH;FMTTYPE=image/png:https://azijnfabriek.nl/wp-content/uploads/2025/07/azijnfabriek_event_website_2025_juli_weerstandopenair_azijnfabriekstage_v1.0.0.png
ORGANIZER;CN="Azijnfabriek":MAILTO:info@azijnfabriek.nl
END:VEVENT
END:VCALENDAR