BEGIN:VCALENDAR
VERSION:2.0
PRODID:-//Azijnfabriek Roermond⁩ - ECPv6.15.20//NONSGML v1.0//EN
CALSCALE:GREGORIAN
METHOD:PUBLISH
X-WR-CALNAME:Azijnfabriek Roermond⁩
X-ORIGINAL-URL:https://azijnfabriek.nl
X-WR-CALDESC:Evenementen voor Azijnfabriek Roermond⁩
REFRESH-INTERVAL;VALUE=DURATION:PT1H
X-Robots-Tag:noindex
X-PUBLISHED-TTL:PT1H
BEGIN:VTIMEZONE
TZID:Europe/Amsterdam
BEGIN:DAYLIGHT
TZOFFSETFROM:+0100
TZOFFSETTO:+0200
TZNAME:CEST
DTSTART:20230326T010000
END:DAYLIGHT
BEGIN:STANDARD
TZOFFSETFROM:+0200
TZOFFSETTO:+0100
TZNAME:CET
DTSTART:20231029T010000
END:STANDARD
BEGIN:DAYLIGHT
TZOFFSETFROM:+0100
TZOFFSETTO:+0200
TZNAME:CEST
DTSTART:20240331T010000
END:DAYLIGHT
BEGIN:STANDARD
TZOFFSETFROM:+0200
TZOFFSETTO:+0100
TZNAME:CET
DTSTART:20241027T010000
END:STANDARD
BEGIN:DAYLIGHT
TZOFFSETFROM:+0100
TZOFFSETTO:+0200
TZNAME:CEST
DTSTART:20250330T010000
END:DAYLIGHT
BEGIN:STANDARD
TZOFFSETFROM:+0200
TZOFFSETTO:+0100
TZNAME:CET
DTSTART:20251026T010000
END:STANDARD
END:VTIMEZONE
BEGIN:VEVENT
DTSTART;TZID=Europe/Amsterdam:20240203T220000
DTEND;TZID=Europe/Amsterdam:20240204T030000
DTSTAMP:20260421T103319
CREATED:20231116T094051Z
LAST-MODIFIED:20240131T095623Z
UID:3080-1706997600-1707015600@azijnfabriek.nl
SUMMARY:De Verkessjtal 'Kirmes Taffereele' Editie
DESCRIPTION:Tickets\n  \n🗓 ZATERDAG 3 FEBRUARI 2024: De Verkessjtal ‘Kirmes Taffereele’ Editie bij de Azijnfabriek! \nDE VERKESSJTAL 🐽 \nBYX komt na een vettige eerste editie terug naar de Azijnfabriek in Roermond op zaterdag 3 februari. \nDit jaar met een De Verkessjtal ‘Kirmes Taftereele’ Editie. 🎠🎡 \nVerwacht weer een vettige combinatie van carnavalsmuziek\, house/techno\, Limburgse act(s)\, fijne mensen en vetlapperij. ❤️ \nRemunjse Neksjlaeg sinds 2021. \n🎧 Esnifa Paloma\, De Männer\, Big Benny\, Sjup & Sjoop\, BYX \n🎵 Carnavalsmuziek\, House\, Techno\, Limburgse meziek \n🦸🏻‍♂️ Dresscode: Dit is ein verkleijdj event\, kom in dien lekkerste/vettigste vastelaovespekske! \nTIME TABLE\n⚡️ 22:00 Doors open\n⚡️ 03:00 Closing time \nAzijnfabriek Roermond\n👉🏻 Ticket Vreug Verke: *** UITVERKOCHT ***.\n👉🏻 Ticket Late Zeug: € 16 excl. service kosten.\n👉🏻 Combideal: Late Zeug + BYX-sjaal: € 26\,50 excl. service kosten.\n🔞 18+\n🍻 Drank: Pin en contant.\n🧥 Garderobe: € 1 (Alleen contant). \nDe Verkessjtal Facebook event:\nhttps://www.facebook.com/events/875129264127873/ \n#Azijnfabriek #AEK #Poppodium #Roermond #Roermondcity #Evenement #Event #Party #DeVerkessjtal #Byxmusic #BYX #House #Techno #LimburgseMeziek
URL:https://azijnfabriek.nl/event/de-verkessjtal-03-02-2024/
LOCATION:Azijnfabriek\, Zwartbroekstraat 17\, Roermond\, 6041 JL\, Nederland
CATEGORIES:Dans- en nachtclub
ATTACH;FMTTYPE=image/png:https://azijnfabriek.nl/wp-content/uploads/2023/11/azijnfabriek_event_website_2024_februari_deverkessjtal_v1.0.0.png
ORGANIZER;CN="Azijnfabriek":MAILTO:info@azijnfabriek.nl
END:VEVENT
END:VCALENDAR