BEGIN:VCALENDAR
VERSION:2.0
PRODID:-//Azijnfabriek Roermond⁩ - ECPv6.15.20//NONSGML v1.0//EN
CALSCALE:GREGORIAN
METHOD:PUBLISH
X-WR-CALNAME:Azijnfabriek Roermond⁩
X-ORIGINAL-URL:https://azijnfabriek.nl
X-WR-CALDESC:Evenementen voor Azijnfabriek Roermond⁩
REFRESH-INTERVAL;VALUE=DURATION:PT1H
X-Robots-Tag:noindex
X-PUBLISHED-TTL:PT1H
BEGIN:VTIMEZONE
TZID:Europe/Amsterdam
BEGIN:DAYLIGHT
TZOFFSETFROM:+0100
TZOFFSETTO:+0200
TZNAME:CEST
DTSTART:20250330T010000
END:DAYLIGHT
BEGIN:STANDARD
TZOFFSETFROM:+0200
TZOFFSETTO:+0100
TZNAME:CET
DTSTART:20251026T010000
END:STANDARD
BEGIN:DAYLIGHT
TZOFFSETFROM:+0100
TZOFFSETTO:+0200
TZNAME:CEST
DTSTART:20260329T010000
END:DAYLIGHT
BEGIN:STANDARD
TZOFFSETFROM:+0200
TZOFFSETTO:+0100
TZNAME:CET
DTSTART:20261025T010000
END:STANDARD
BEGIN:DAYLIGHT
TZOFFSETFROM:+0100
TZOFFSETTO:+0200
TZNAME:CEST
DTSTART:20270328T010000
END:DAYLIGHT
BEGIN:STANDARD
TZOFFSETFROM:+0200
TZOFFSETTO:+0100
TZNAME:CET
DTSTART:20271031T010000
END:STANDARD
END:VTIMEZONE
BEGIN:VEVENT
DTSTART;TZID=Europe/Amsterdam:20260425T193000
DTEND;TZID=Europe/Amsterdam:20260425T233000
DTSTAMP:20260425T053953
CREATED:20260205T105525Z
LAST-MODIFIED:20260422T111011Z
UID:6218-1777145400-1777159800@azijnfabriek.nl
SUMMARY:Grindcore Inferno #3
DESCRIPTION:🗓 ZATERDAG 25 APRIL 2026: Grindcore Inferno #3 bij de Azijnfabriek!  \nThe third edition of Grindcore Inferno bring this lots of noise. \n🎸 ENTRAILS MASSACRE; grindcore violence from Rostock since 1990 EM grinding this world. new album coming in 2026 \n🎸 I SCREAM PROTEST!; formed in the end of 90’s and out of sabbatical\,I SCREAM PROTEST is back to bring some furious\,fast and loud Hardcore Grind. \n🎸 DAYS OF DESOLATION; D.O.D delivering assault of Grind with raw energy and crushing riffs since 2009. \n🎸 SANGRE DE IDIOTAS; raw Neanderthal Drum&Bass Grindcore duo from Slovakia \n🎸 K T.D.; Local HC Grind Noise Crossover with new band mates. \n👨🏻‍🎤 Een absolute show die je niet wilt missen! \n🎵 Grindcore\, Noise\, Drum&Bass Grindcore \nTIME TABLE\n⚡️ 19:30 Doors open\n⚡️ 20:00 Aanvang\n⚡️ 23:30 Closing time \nAzijnfabriek Roermond\n👉🏻 Tickets deurverkoop: € 10 (contant).\n✅ Alle leeftijden\n🍻 Drank: Pin en contant. \nFacebook event:\nhttps://www.facebook.com/events/1352708389919877/ \nKill The Dealer Social Media\nFacebook: https://www.facebook.com/profile.php?id=61573922438894 \n#Azijnfabriek #Aek #Poppodium #Roermond #Roermondcity #Evenement #Event #Livemuziek #Concert #GrindcoreInferno #EntrailsMassacre #IScreamProtest #DaysOfDesolation #SangreDeIdiotas #KillTheDealer #Grindcore #Noise #DrumAndBassGrindcore\n 
URL:https://azijnfabriek.nl/event/grindcoreinferno-25-04-2026/
LOCATION:Azijnfabriek\, Zwartbroekstraat 17\, Roermond\, 6041 JL\, Nederland
CATEGORIES:Concert
ATTACH;FMTTYPE=image/png:https://azijnfabriek.nl/wp-content/uploads/2026/02/azijnfabriek_event_website_2026_april_grindcoreinferno_v1.0.0.png
ORGANIZER;CN="Azijnfabriek":MAILTO:info@azijnfabriek.nl
END:VEVENT
BEGIN:VEVENT
DTSTART;TZID=Europe/Amsterdam:20260505T190000
DTEND;TZID=Europe/Amsterdam:20260506T010000
DTSTAMP:20260425T053953
CREATED:20260422T083407Z
LAST-MODIFIED:20260422T083407Z
UID:7457-1778007600-1778029200@azijnfabriek.nl
SUMMARY:DIEAFTERPARTY Bevrijdingsdag Roermond
DESCRIPTION:Tickets\n \n🗓 DINSDAG 5 MEI 2026: DIEAFTERPARTY Bevrijdingsdag Roermond bij de Azijnfabriek! \nOscillate x Teknown present: DIEAFTERPARTY Bevrijdingsdag Roermond \nFor the fourth year in a row\, we return with our unofficial Bevrijdingsfestival afterparty. \nDoors open earlier than usual: 19:00 – 01:00 \nLine-up will be announced soon. \nTickets are now available. \nBe there. \n🎧 T.B.A. \n🎵 Tekno\, RaggaTek\, Drum&Bass \nTIME TABLE\n⚡️ 19:00 Doors open\n⚡️ 01:00 Closing time \nAzijnfabriek Roermond\n👉🏻 Tickets LIMITED EARLY BIRDS: € 5\,00 excl. service kosten.\n🎟️ Tickets: https://eventix.shop/5q2467gn\n👉🏻 Tickets Door: € 10 excl. service kosten.\n🔞 18+\n🍻 Drank: Pin en contant.\n🧥 Garderobe: € 1 (Alleen contant). \nFacebook event:\nhttps://www.facebook.com/events/907831762053039/ \n#Azijnfabriek #Aek #Poppodium #Roermond #Roermondcity #Evenement #Event #Party #Oscillate #Teknown #Tekno #RaggaTek #DrumAndBass #DNB #5Mei #Bevrijdingsfestival #Afterparty #BevrijdingsfestivalAfterparty \n 
URL:https://azijnfabriek.nl/event/dieafterparty-bevrijdingsdag-05-05-2026/
LOCATION:Azijnfabriek\, Zwartbroekstraat 17\, Roermond\, 6041 JL\, Nederland
CATEGORIES:Dans- en nachtclub
ATTACH;FMTTYPE=image/png:https://azijnfabriek.nl/wp-content/uploads/2026/04/azijnfabriek_event_website_2026_mei_dieafterparty_bevrijdingsdag_roermond_v1.0.0.png
ORGANIZER;CN="Azijnfabriek":MAILTO:info@azijnfabriek.nl
END:VEVENT
BEGIN:VEVENT
DTSTART;TZID=Europe/Amsterdam:20260529T220000
DTEND;TZID=Europe/Amsterdam:20260530T030000
DTSTAMP:20260425T053953
CREATED:20260331T080622Z
LAST-MODIFIED:20260331T080648Z
UID:7177-1780092000-1780110000@azijnfabriek.nl
SUMMARY:Early Is De Basis
DESCRIPTION:Tickets\n \n🗓 VRIJDAG 29 MEI 2026: Early Is De Basis bij de Azijnfabriek! \n🔥 EARLY IS DE BASIS 🔥\nGet ready for a night of pure nostalgia and high-energy beats! On May 29\, the Azijnfabriek in Roermond will be transformed into a paradise for every early hardcore lover. \nThree forces unite behind the decks: DJ Freeze\, DJ Graat\, and Kid Karma. Together they’re bringing the sound that defined a generation and still shakes the dancefloor today. \nExpect a night packed with:\n💥 Early Hardcore\n😊 Happy Hardcore\n⚡ Early Rave \nFrom pounding kicks to uplifting melodies and classic rave vibes — this will be a journey straight back to the golden era of hardcore. \nIf you love the classics and the raw energy of the early days\, this is where you need to be. Gather your crew\, lace up your rave shoes\, and prepare for a night you won’t forget. \nEarly is not a trend — it’s a lifestyle. \n🎧 DJ Freeze\, DJ Graat\, Kid Karma \n🎵 Early Hardcore\, Happy Hardcore\, Early Rave \nTIME TABLE\n⚡️ 22:00 Doors open\n⚡️ 03:00 Closing time \nAzijnfabriek Roermond\n👉🏻 Tickets: € 7\,50 excl. service kosten.\n🎟 Tickets: https://shop.ikbenaanwezig.nl/tickets/event/early-is-de-basis-\n👉🏻 Tickets deurverkoop: € 10 (contant).\n🔞 18+\n🍻 Drank: Pin en contant.\n🧥 Garderobe: € 1 (Alleen contant). \n\n\n\n\n  \nFacebook event:\nhttps://www.facebook.com/events/2081100205768544/ \n#Azijnfabriek #Aek #Poppodium #Roermond #Roermondcity #Evenement #Event #Party #EarlyIsDeBasis #EarlyHardcore #HappyHardcore #EarlyRave
URL:https://azijnfabriek.nl/event/earlyisdebasis-29-05-2026/
LOCATION:Azijnfabriek\, Zwartbroekstraat 17\, Roermond\, 6041 JL\, Nederland
CATEGORIES:Dans- en nachtclub
ATTACH;FMTTYPE=image/png:https://azijnfabriek.nl/wp-content/uploads/2026/03/azijnfabriek_event_website_event_2026_mei_earlyisdebasis_v1.0.0.png
ORGANIZER;CN="Azijnfabriek":MAILTO:info@azijnfabriek.nl
END:VEVENT
BEGIN:VEVENT
DTSTART;TZID=Europe/Amsterdam:20260530T220000
DTEND;TZID=Europe/Amsterdam:20260531T030000
DTSTAMP:20260425T053953
CREATED:20260326T124114Z
LAST-MODIFIED:20260326T124114Z
UID:7174-1780178400-1780196400@azijnfabriek.nl
SUMMARY:Tijdmachine: 90’s & 00’s
DESCRIPTION:🗓 ZATERDAG 30 MEI 2026: Tijdmachine: 90’s & 00’s bij de Azijnfabriek! \nZaterdag 30 mei is het weer kermis in Roermond en natuurlijk slingeren we de Tijdmachine dan weer aan in de Azijnfabriek! \nWe nemen jullie mee in onze tijdmachine en gaan samen op een reis door de jaren 90 en 00s. Van de lekkerste meezingers tot de beste dansvloerhitjes\, kortom een avond die je absoluut niet wil missen! \n🎧 Dj Free-K \n🎵 90’s & 00’s (House\, Pop\, Happy Hardcore\, R&B\, Hip Hop en alles daar tussenin) \nTIME TABLE\n⚡️ 22:00 Doors open\n⚡️ 03:00 Closing time \nAzijnfabriek Roermond\n👉🏻 Entree 22:00 – 23:00: € 5 (Alleen contant).\n👉🏻 Entree 23:00 – 03:00: € 10 (Alleen contant).\n🔞 18+\n🍻 Drank: Pin en contant.\n🧥 Garderobe: € 1 (Alleen contant). \nFacebook event:\nhttps://www.facebook.com/events/1460846129146950/ \n#Azijnfabriek #Aek #Poppodium #Roermond #Roermondcity #Evenement #Event #Party #Tijdmachine #DjFreeK #90s #00s #House #Pop #HappyHardcore #RandB #HipHop
URL:https://azijnfabriek.nl/event/tijdmachine-30-05-2026/
LOCATION:Azijnfabriek\, Zwartbroekstraat 17\, Roermond\, 6041 JL\, Nederland
CATEGORIES:Dans- en nachtclub
ATTACH;FMTTYPE=image/png:https://azijnfabriek.nl/wp-content/uploads/2026/03/azijnfabriek_event_website_2026_mei_tijdmachine_v1.0.0.png
ORGANIZER;CN="Azijnfabriek":MAILTO:info@azijnfabriek.nl
END:VEVENT
BEGIN:VEVENT
DTSTART;TZID=Europe/Amsterdam:20260711T220000
DTEND;TZID=Europe/Amsterdam:20260712T030000
DTSTAMP:20260425T053953
CREATED:20260422T095646Z
LAST-MODIFIED:20260422T095744Z
UID:7460-1783807200-1783825200@azijnfabriek.nl
SUMMARY:LAB 44
DESCRIPTION:Tickets\n \n🗓 ZATERDAG 11 JULI 2026: LAB 44 bij de Azijnfabriek! \n♨️Join us into the underground because we bring Berlin Techno sound closer to our home.\n• Hardware live act artists combined with fire DJ sets.\n• upcoming DJ’s and Pro’s\n• Inclusive space for everyone\n• more details and final Line-Up will follow up \n🎧 T.B.A. \n🎵 Techno \nTIME TABLE\n⚡️ 22:00 Doors open\n⚡️ 03:00 Closing time \nAzijnfabriek Roermond\n👉🏻 Tickets: € 10 excl. service kosten.\n🎟️ Tickets: https://weeztix.shop/abqb6gtn\n🔞 21+\n🍻 Drank: Pin en contant.\n🧥 Garderobe: € 1 (Alleen contant). \nFacebook event:\nhttps://www.facebook.com/events/4285854218331048/ \n#Azijnfabriek #Aek #Poppodium #Roermond #Roermondcity #Evenement #Event #Party #JuLee #LAB44 #Techno \n 
URL:https://azijnfabriek.nl/event/lab44-11-07-2026/
LOCATION:Azijnfabriek\, Zwartbroekstraat 17\, Roermond\, 6041 JL\, Nederland
CATEGORIES:Dans- en nachtclub
ATTACH;FMTTYPE=image/png:https://azijnfabriek.nl/wp-content/uploads/2026/04/azijnfabriek_event_website_2026_juli_lab44_v1.0.0.png
ORGANIZER;CN="Azijnfabriek":MAILTO:info@azijnfabriek.nl
END:VEVENT
BEGIN:VEVENT
DTSTART;TZID=Europe/Amsterdam:20260911T200000
DTEND;TZID=Europe/Amsterdam:20260912T020000
DTSTAMP:20260425T053953
CREATED:20260305T101830Z
LAST-MODIFIED:20260305T102047Z
UID:6792-1789156800-1789178400@azijnfabriek.nl
SUMMARY:Grindcore Inferno #4
DESCRIPTION:Tickets T.B.A.\n \n🗓 VRIJDAG 11 SEPTEMBER 2026: Grindcore Inferno #4 bij de Azijnfabriek!  \nThis time Grindcore Inferno #4 will bring lot of noisy Grindcore. \n🎸 DESTITUTE; from Colombia Grindcore as hell \n🎸 MINDLOCK; from Columbia Grindcore madness \n🎸 MUCUS & HYBRID VISCERY; from Belgium these guys will show you how to play two shows in the same evening. totally old school Grindcore with the noisy parts.brutal….since 1997 \n🎸 INDIGNATION; from Amsterdam raw Grindcore\, second time at the Grindcore Inferno. \n👨🏻‍🎤 Een absolute show die je niet wilt missen! \n🎵 Grindcore\, Old School Grindcore\, Noisegrind\, Goregrind \nTIME TABLE\n⚡️ 20:00 Doors open\n⚡️ 20:30 Aanvang\n⚡️ 02:00 Closing time \nAzijnfabriek Roermond\n👉🏻 Tickets: T.B.A.\n🎟 Tickets: T.B.A.\n✅ Alle leeftijden\n🍻 Drank: Pin en contant. \nFacebook event:\nhttps://www.facebook.com/events/746084344949869/ \nDESTITUTE Social Media:\nInstagram: https://www.instagram.com/destitutegrind/ \nMINDLOCK Social Media:\nInstagram: https://www.instagram.com/mindlockgrind/ \nMUCUS Social Media:\nFacebook: https://www.facebook.com/mucusgrind \nHYBRID VISCERY Social Media:\nFacebook: https://www.facebook.com/hybridviscery\nInstagram: https://www.instagram.com/hybridviscery/ \n#Azijnfabriek #Aek #Poppodium #Roermond #Roermondcity #Evenement #Event #Livemuziek #Concert #GrindcoreInferno #Destitute #Mindlock #MucusAndHybridViscery #Indignation #Grindcore\n 
URL:https://azijnfabriek.nl/event/grindcoreinferno-11-09-2026/
LOCATION:Azijnfabriek\, Zwartbroekstraat 17\, Roermond\, 6041 JL\, Nederland
CATEGORIES:Concert
ATTACH;FMTTYPE=image/png:https://azijnfabriek.nl/wp-content/uploads/2026/03/azijnfabriek_event_website_2026_september_grindcoreinferno_v1.0.0.png
ORGANIZER;CN="Azijnfabriek":MAILTO:info@azijnfabriek.nl
END:VEVENT
BEGIN:VEVENT
DTSTART;TZID=Europe/Amsterdam:20261018T110000
DTEND;TZID=Europe/Amsterdam:20261018T170000
DTSTAMP:20260425T053953
CREATED:20260305T104456Z
LAST-MODIFIED:20260305T104456Z
UID:6797-1792321200-1792342800@azijnfabriek.nl
SUMMARY:De Harde Platenmarkt #2
DESCRIPTION:🗓 ZONDAG 18 OKTOBER 2026: De Harde Platenmarkt #2 bij de Azijnfabriek! \nGratis toegankelijke platenmarkt. Deelnemers uit binnen- en buitenland bieden lp’s\, cd’s en singles te koop aan\, deze keer vooral het hardere werk. Verwacht veel metal en punk\, maar ook bluesrock\, prog\, new wave en hardcore. \nTIME TABLE\n⚡️ 11:00 Doors open\n⚡️ 17:00 Closing time \nAzijnfabriek Roermond\n👉🏻 GRATIS entree!\n✅ Alle leeftijden\n🍻 Drank: Pin en contant. \nFacebook event:\nhttps://www.facebook.com/events/1912606832728850/ \n#Azijnfabriek #Aek #Poppodium #Roermond #Roermondcity #Evenement #Event #Markt #Platenmarkt #GratisToegang #Vinyl #LPs #CDs #Singles #Metal #Punk #Bluesrock #Prog #NewWave #Hardcore
URL:https://azijnfabriek.nl/event/dehardeplatenmarkt-18-10-2026/
LOCATION:Azijnfabriek\, Zwartbroekstraat 17\, Roermond\, 6041 JL\, Nederland
CATEGORIES:Café,Markt
ATTACH;FMTTYPE=image/png:https://azijnfabriek.nl/wp-content/uploads/2026/03/azijnfabriek_event_website_2026_oktober_dehardeplatenmarkt_v1.0.0.png
ORGANIZER;CN="Azijnfabriek":MAILTO:info@azijnfabriek.nl
END:VEVENT
END:VCALENDAR