BEGIN:VCALENDAR
VERSION:2.0
PRODID:-//Azijnfabriek Roermond⁩ - ECPv6.15.20//NONSGML v1.0//EN
CALSCALE:GREGORIAN
METHOD:PUBLISH
X-ORIGINAL-URL:https://azijnfabriek.nl
X-WR-CALDESC:Evenementen voor Azijnfabriek Roermond⁩
REFRESH-INTERVAL;VALUE=DURATION:PT1H
X-Robots-Tag:noindex
X-PUBLISHED-TTL:PT1H
BEGIN:VTIMEZONE
TZID:Europe/Amsterdam
BEGIN:DAYLIGHT
TZOFFSETFROM:+0100
TZOFFSETTO:+0200
TZNAME:CEST
DTSTART:20230326T010000
END:DAYLIGHT
BEGIN:STANDARD
TZOFFSETFROM:+0200
TZOFFSETTO:+0100
TZNAME:CET
DTSTART:20231029T010000
END:STANDARD
BEGIN:DAYLIGHT
TZOFFSETFROM:+0100
TZOFFSETTO:+0200
TZNAME:CEST
DTSTART:20240331T010000
END:DAYLIGHT
BEGIN:STANDARD
TZOFFSETFROM:+0200
TZOFFSETTO:+0100
TZNAME:CET
DTSTART:20241027T010000
END:STANDARD
BEGIN:DAYLIGHT
TZOFFSETFROM:+0100
TZOFFSETTO:+0200
TZNAME:CEST
DTSTART:20250330T010000
END:DAYLIGHT
BEGIN:STANDARD
TZOFFSETFROM:+0200
TZOFFSETTO:+0100
TZNAME:CET
DTSTART:20251026T010000
END:STANDARD
BEGIN:DAYLIGHT
TZOFFSETFROM:+0100
TZOFFSETTO:+0200
TZNAME:CEST
DTSTART:20260329T010000
END:DAYLIGHT
BEGIN:STANDARD
TZOFFSETFROM:+0200
TZOFFSETTO:+0100
TZNAME:CET
DTSTART:20261025T010000
END:STANDARD
END:VTIMEZONE
BEGIN:VEVENT
DTSTART;TZID=Europe/Amsterdam:20251122T190000
DTEND;TZID=Europe/Amsterdam:20251123T020000
DTSTAMP:20260421T141653
CREATED:20251007T112056Z
LAST-MODIFIED:20251119T161033Z
UID:5001-1763838000-1763863200@azijnfabriek.nl
SUMMARY:Liverpool aan de Maas
DESCRIPTION:Tickets\n \n🗓 ZATERDAG 22 NOVEMBER 2025: Liverpool aan de Maas Festival 2025 bij de Azijnfabriek! \nOp zaterdag 22 november is het weer zo ver\, het inmiddels legendarische Liverpool aan de Maas Festival in de Azijnfabriek! Dit jaar weer met jong\, aanstormend talent\, bands uit de regio\, het 25-jarige bestaan van één van Roermonds meest geliefde Limburgstalige bands én een band van weleer die een reunië show speelt. Laat je verrassen door deze geweldige line-up op zaterdag 22 november! \n📸 Archief: https://azijnfabriek.nl/liverpool-aan-de-maas-2024_archief/ \nTIME TABLE\n⚡️ 19:00 Doors open\n⚡️ 02:00 Closing time \nAzijnfabriek Roermond\n👉🏻 Tickets Early: *** UITVERKOCHT ***.\n👉🏻 Tickets Regular: € 12\,50 excl. Servicekosten.\n🎟️ Tickets: https://shop.ikbenaanwezig.nl/tickets/event/liverpool-aan-de-maas-festival-2025\n👉🏻 Tickets deurverkoop: € 15.\n✅ Alle leeftijden\n🍻 Drank: Pin en contant. \n\n\n\n\n \nVideo van Liverpool aan de Maas Festival 2023:\n \n\n\n  \n\n\nFacebook event:\nhttps://www.facebook.com/events/2230537580693603/ \nRoermond in Tune Social Media:\nFacebook: https://www.facebook.com/roermondintune\nInstagram: https://www.instagram.com/roermondintune/ \nLiverpool aan de Maas Social Media\nFacebook: https://www.facebook.com/LiverpoolAanDeMaas \n#Azijnfabriek #AEK #Poppodium #Roermond #Roermondcity #Evenement #LiveMuziek #Concert #Festival #LiverpoolAanDeMaas #RoermondInTune #RockcityRemunj #Metal #Folk
URL:https://azijnfabriek.nl/event/liverpool-aan-de-maas-22-11-2025/
LOCATION:Azijnfabriek\, Zwartbroekstraat 17\, Roermond\, 6041 JL\, Nederland
CATEGORIES:Concert,Festival
ATTACH;FMTTYPE=image/png:https://azijnfabriek.nl/wp-content/uploads/2025/10/azijnfabriek_event_website_2025_november_liverpoolaandemaas_v1.2.0.png
ORGANIZER;CN="Azijnfabriek":MAILTO:info@azijnfabriek.nl
END:VEVENT
BEGIN:VEVENT
DTSTART;TZID=Europe/Amsterdam:20250726T130000
DTEND;TZID=Europe/Amsterdam:20250726T230000
DTSTAMP:20260421T141653
CREATED:20250716T073346Z
LAST-MODIFIED:20250723T105024Z
UID:4702-1753534800-1753570800@azijnfabriek.nl
SUMMARY:Azijnfabriek Stage @ Weerstand Open Air 2025
DESCRIPTION:🗓 ZATERDAG 26 JULI 2025: Azijnfabriek Stage @ Weerstand Open Air 2025! \nDit jaar heeft de Azijnfabriek Roermond weer zijn eigen stage bij het festival Weerstand Open Air 2025! Heb jij zin in Rock en/of Metal muziek? Kom vooral kijken bij onze Stage. Tot dan! \n👨🏻‍🎤 Een absolute show die je niet wilt missen! \n🎵 Postmetal\, Doom\, Screamo\, Emoviolence\, Poppunk\, Emo\, Posthardcore\, Groovemetal\, Thrash\, Deathmetal \nTIME TABLE\n⚡️ 13:00 Doors open\n⚡️ 15:00 – 15:45 Bronson Superfortress [Post-metal\, Doom]\n⚡️ 16:15 – 17:00 Rad Skeliott [Screamo\, Emoviolence]\n⚡️ 17:30 – 18:15 Sugarpunch! [Pop-punk\, Emo]\n⚡️ 18:45 – 19:30 Azalea [Post-hardcore\, Screamo]\n⚡️ 20:00 – 20:45 Reverse the Flow [Groove metal\, Thrash]\n⚡️ 21:15 – 22:00 Inferum [Death metal\, Groove metal]\n⚡️ 23:00 Closing time \nAzijnfabriek Roermond @ Weerstand Open Air 2025\n👉🏻 GRATIS entree!\n✅ Alle leeftijden\n🍻 Drank: Pin en contant. \nFacebook event:\nhttps://www.facebook.com/events/1260573112320391/ \nWeerstand Open Air 2025 Facebook event:\nhttps://www.facebook.com/events/1343127830981124/ \n#Azijnfabriek #AEK #WeAreRoermond #Weerstand #WeerstandOpenAir #WeerstandFestival #Poppodium #Roermond #Roermondcity #Festival #Evenement #Event #Livemuziek #Concert #BronsonSuperfortress #RadSkeliott #Sugarpunch #Azalea #ReverseTheFlow #Inferum #Postmetal #Doom #Screamo #Emoviolence #Poppunk #Emo #Posthardcore #Groovemetal #Thrash #Deathmetal \n\n\n\n\n 
URL:https://azijnfabriek.nl/event/weerstand-open-air-2025/
LOCATION:Weerstand Roermond\, Bredeweg 10\, Roermond\, Limburg\, 6042 GG\, Nederland
CATEGORIES:Concert,Festival
ATTACH;FMTTYPE=image/png:https://azijnfabriek.nl/wp-content/uploads/2025/07/azijnfabriek_event_website_2025_juli_weerstandopenair_azijnfabriekstage_v1.0.0.png
ORGANIZER;CN="Azijnfabriek":MAILTO:info@azijnfabriek.nl
END:VEVENT
BEGIN:VEVENT
DTSTART;TZID=Europe/Amsterdam:20250705T150000
DTEND;TZID=Europe/Amsterdam:20250706T030000
DTSTAMP:20260421T141653
CREATED:20250611T172229Z
LAST-MODIFIED:20250626T080254Z
UID:4595-1751727600-1751770800@azijnfabriek.nl
SUMMARY:Benefiet Festival AEK
DESCRIPTION:Tickets\n \n🗓 ZATERDAG 5 JULI 2025: The Tribute Agency presenteert Benefiet Festival AEK! \nNa de schandalige diefstal vorige maand organiseren we een spectaculair Benefiet Festival voor de AEK! Dit evenement vindt plaats in de Azijnfabriek en het belooft een onvergetelijke dag te worden. Met maar liefst 5 bands en 4 DJ’s die belangeloos optreden\, zul je de hele dag genieten van het beste wat Roermond te bieden heeft in de live muziek en DJ-scene. \nDe toegang is beperkt tot maximaal 250 tickets\, dus wees er snel bij! 100% van de opbrengst van de entree gaat naar de Azijnfabriek\, zodat jij niet alleen kan feesten\, maar ook een verschil kunt maken.  \nMis deze kans niet om samen te komen\, te genieten van geweldige muziek en tegelijkertijd een goed doel te steunen. Zorg dat je erbij bent! vvk 17\,50 20 aan de deur (indien beschikbaar) \n👨🏻‍🎤 Wees erbij: een spectaculair festival dat een verschil maakt! \n🎵 Metal\, Hard Rock\, Heavy Metal\, Doom Metal\, Rock & Roll\, Alternative Rock\, Post-rock\, Post-metal\, Ambient\, Drum & Bass\, Trance\, House\, Techno\, Hip Hop\, Rap. \nTIME TABLE\n⚡️ 15:00 Doors open\n⚡️ 16:00 Die Glücklichen Radfahrer\n⚡️ 17:15 Snaggletooth\n⚡️ 18:45 Bloody Sabbath\n⚡️ 20:30 Stewie Brick\n⚡️ 22:00 Kelvin zero\n⚡️ 23:00 Dansen met DJ’s: Skizm\, Bix\, Baldy Brothers\n⚡️ 03:00 Closing time \nAzijnfabriek Roermond\n👉🏻 Tickets: € 17\,50 excl. Servicekosten (VVK start vrijdag 13 Juni om 12.00 uur)\n🎟 Tickets: https://azijnfabriek.eventgoose.com/\n👉🏻 Tickets deurverkoop: € 20 (indien beschikbaar).\n✅ Alle leeftijden\n🍻 Drank: Pin en contant.\n🧥 Garderobe: € 1 (Alleen contant). \nFacebook event:\nhttps://www.facebook.com/events/1215947423650051 \nThe Tribute Agency Social Media\nFacebook: https://www.facebook.com/thetributeagency\nInstagram: https://www.instagram.com/thetributeagency \nSteun de Azijnfabriek Crowdfunding:\nhttps://steunactie.nl/actie/azijnfabriek-crowdfunding/-50006 \n#Azijnfabriek #AEK #Poppodium #TheTributeAgency #Roermond #Roermondcity #Evenement #Event #Livemuziek #Concert #BenefietFestival #Festival #DieGlucklichenRadfahrer #Snaggletooth #BloodySabbath #StewieBrick #KelvinZero #Skizm #Bix #BaldyBrothers #Metal #HeavyMetal #DoomMetal #HardRock #RockAndRoll #PostMetal #PostRock #ElectronicMusic #DrumAndBass #House #Techno #HipHop #Rap #FestivalVibes #MusicFestival #GoedeDoel \n 
URL:https://azijnfabriek.nl/event/benefiet-festival-05-07-2025/
LOCATION:Azijnfabriek\, Zwartbroekstraat 17\, Roermond\, 6041 JL\, Nederland
CATEGORIES:Concert,Festival
ATTACH;FMTTYPE=image/png:https://azijnfabriek.nl/wp-content/uploads/2025/06/azijnfabriek_event_website_2025_juli_benefiet_azijnfabriek_v1.1.0.png
ORGANIZER;CN="Azijnfabriek":MAILTO:info@azijnfabriek.nl
END:VEVENT
BEGIN:VEVENT
DTSTART;TZID=Europe/Amsterdam:20241123T200000
DTEND;TZID=Europe/Amsterdam:20241124T020000
DTSTAMP:20260421T141653
CREATED:20241009T080840Z
LAST-MODIFIED:20241120T103559Z
UID:4041-1732392000-1732413600@azijnfabriek.nl
SUMMARY:Liverpool aan de Maas
DESCRIPTION:Tickets\n \n🗓 ZATERDAG 23 NOVEMBER 2024: Liverpool aan de Maas Festival 2024 bij de Azijnfabriek! \nLiverpool aan de Maas Festival is terug! Na twee uitverkochtte edities in zowel 2022 als 2023\, staan er ook dit jaar weer fantastische lokale bands van vroeger én van nu op het podium! Met dit jaar de toevoeging van de winnaar van het Roermond in Tune Ruwe Diamanten Festival\, is dit een avond met live muziek in de Azijnfabriek die je niet mag missen! \n🎙 Phone Home\, Kelvin Zhero\, Yantras\, Johnny Paimen\, Kras\, Right Back. \n📸 + 📽 Archief: https://azijnfabriek.nl/liverpool-aan-de-maas-09-12-2023_archief/ \nTIME TABLE\n⚡️ 20:00 Doors open\n⚡️ 02:00 Closing time \nAzijnfabriek Roermond\n👉🏻 Tickets: € 10 excl. servicekosten\n🎟 Tickets: https://shop.ikbenaanwezig.nl/tickets/event/liverpool-aan-de-maas-festival-2024\n✅ Alle leeftijden\n🍻 Drank: Pin en contant.\n🧥 Garderobe: € 1 (Alleen contant). \n\n\n\n\n\n\n  \n\n\nFacebook event:\nhttps://www.facebook.com/events/8194468640680015/ \nRoermond in Tune Social Media:\nFacebook: https://www.facebook.com/roermondintune\nInstagram: https://www.instagram.com/roermondintune/ \nLiverpool aan de Maas Social Media\nFacebook: https://www.facebook.com/LiverpoolAanDeMaas \n#Azijnfabriek #AEK #Poppodium #Roermond #Roermondcity #Evenement #LiveMuziek #Concert #Festival #LiverpoolAanDeMaas #RoermondInTune #RockcityRemunj #Metal #Folk
URL:https://azijnfabriek.nl/event/liverpool-aan-de-maas-23-11-2024/
LOCATION:Azijnfabriek\, Zwartbroekstraat 17\, Roermond\, 6041 JL\, Nederland
CATEGORIES:Concert,Festival
ATTACH;FMTTYPE=image/png:https://azijnfabriek.nl/wp-content/uploads/2024/10/azijnfabriek_event_website_2024_november_liverpoolaandemaas_v1.2.0.png
ORGANIZER;CN="Azijnfabriek":MAILTO:info@azijnfabriek.nl
END:VEVENT
BEGIN:VEVENT
DTSTART;TZID=Europe/Amsterdam:20240727T130000
DTEND;TZID=Europe/Amsterdam:20240727T223000
DTSTAMP:20260421T141653
CREATED:20240712T120958Z
LAST-MODIFIED:20240724T111629Z
UID:3867-1722085200-1722119400@azijnfabriek.nl
SUMMARY:Azijnfabriek Stage @ Weerstand Open Air 2024
DESCRIPTION:🗓 ZATERDAG 27 JULI 2024: Azijnfabriek Stage @ Weerstand Open Air 2024! \nDit jaar heeft de Azijnfabriek Roermond zijn eigen stage bij het festival Weerstand Open Air 2024! Heb jij zin in Rock en/of Metal muziek? Kom vooral kijken bij onze Stage. Tot dan! \n👨🏻‍🎤 Een absolute show die je niet wilt missen! \n🎵 Poppunk\, Emocore\, Rock\, Metal\, Hardcore\, Punk\, Doommetal\, Sludge metal\, Blackened \nTIME TABLE\n⚡️ 13:00 Doors open\n⚡️ 15:00 – 15:45 Boys cry too. [Poppunk\, Emocore]\n⚡️ 16:15 – 17:00 Solitude [Metal]\n⚡️ 17:30 – 18:15 Johnny Paimen. [Rock\, Metal]\n⚡️ 18:45 – 19:30 Die Glücklichen Radfahrer [Hardcore\, Metal\, Punk]\n⚡️ 20:00 – 20:45 Yantras [Doommetal\, Sludge metal]\n⚡️ 21:15 – 22:00 Hezurra [Blackened\, Doommetal]\n⚡️ 22:30 Closing time \nAzijnfabriek Roermond @ Weerstand Open Air 2024\n👉🏻 GRATIS entree!\n✅ Alle leeftijden\n🍻 Drank: Pin en contant. \nFacebook event:\nhttps://www.facebook.com/events/444525761896790/ \nWeerstand Open Air 2024 Facebook event:\nhttps://www.facebook.com/events/677452510898716 \nBoys cry too Social Media\nFacebook: https://www.facebook.com/profile.php?id=61557380675850\nInstagram: https://www.instagram.com/boyscrytooband\nSpotify: https://open.spotify.com/artist/3BiRNRw2tQDTz00k9jh68e \nSolitude Social Media\nFacebook: https://www.facebook.com/SolitudeBand\nInstagram: https://www.instagram.com/solitude_band_/ \nJohnny Paimen Social Media\nFacebook: https://www.facebook.com/profile.php?id=100089467197098\nInstagram: https://www.instagram.com/johnnypaimenband/ \nDie Glücklichen Radfahrer Social Media\nFacebook: https://www.facebook.com/dieglucklichenradfahrer\nInstagram: https://www.instagram.com/dieglucklichenradfahrer/\nYoutube: https://www.youtube.com/channel/UCWt1V3r0RVbzx4U0oL5XS7w \nYantras Social Media\nFacebook: https://www.facebook.com/Yantrasofficial/\nInstagram: https://www.instagram.com/yantras_official/ \nHezurra Social Media\nFacebook: https://www.facebook.com/profile.php?id=61557744486994\nInstagram: https://www.instagram.com/hezurra_official \n#Azijnfabriek #AEK #WeAreRoermond #Weerstand #WeerstandOpenAir #WeerstandFestival #Poppodium #Roermond #Roermondcity #Festival #Evenement #Event #Livemuziek #Concert #BoysCryToo #Solitude #JohnnyPaimen #DieGlucklichenRadfahrer #Yantras #Hezurra #Poppunk #Emo #Rock #Metal #Hardcore #Punk #Doommetal #SludgeMetal \n\n\n\n\n  \n\n\n\n\n 
URL:https://azijnfabriek.nl/event/weerstand-open-air-2024/
LOCATION:Weerstand Roermond\, Bredeweg 10\, Roermond\, Limburg\, 6042 GG\, Nederland
CATEGORIES:Concert,Festival
ATTACH;FMTTYPE=image/png:https://azijnfabriek.nl/wp-content/uploads/2024/07/azijnfabriek_event_website_2024_juli_weerstandopenair_azijnfabriekstage_v1.0.0.png
ORGANIZER;CN="Azijnfabriek":MAILTO:info@azijnfabriek.nl
END:VEVENT
END:VCALENDAR